BEGIN:VCALENDAR
VERSION:2.0
PRODID:-//Maryland Legal Services Corporation - ECPv6.15.20//NONSGML v1.0//EN
CALSCALE:GREGORIAN
METHOD:PUBLISH
X-WR-CALNAME:Maryland Legal Services Corporation
X-ORIGINAL-URL:https://www.mlsc.org
X-WR-CALDESC:Events for Maryland Legal Services Corporation
REFRESH-INTERVAL;VALUE=DURATION:PT1H
X-Robots-Tag:noindex
X-PUBLISHED-TTL:PT1H
BEGIN:VTIMEZONE
TZID:America/New_York
BEGIN:DAYLIGHT
TZOFFSETFROM:-0500
TZOFFSETTO:-0400
TZNAME:EDT
DTSTART:20190310T070000
END:DAYLIGHT
BEGIN:STANDARD
TZOFFSETFROM:-0400
TZOFFSETTO:-0500
TZNAME:EST
DTSTART:20191103T060000
END:STANDARD
BEGIN:DAYLIGHT
TZOFFSETFROM:-0500
TZOFFSETTO:-0400
TZNAME:EDT
DTSTART:20200308T070000
END:DAYLIGHT
BEGIN:STANDARD
TZOFFSETFROM:-0400
TZOFFSETTO:-0500
TZNAME:EST
DTSTART:20201101T060000
END:STANDARD
BEGIN:DAYLIGHT
TZOFFSETFROM:-0500
TZOFFSETTO:-0400
TZNAME:EDT
DTSTART:20210314T070000
END:DAYLIGHT
BEGIN:STANDARD
TZOFFSETFROM:-0400
TZOFFSETTO:-0500
TZNAME:EST
DTSTART:20211107T060000
END:STANDARD
BEGIN:DAYLIGHT
TZOFFSETFROM:-0500
TZOFFSETTO:-0400
TZNAME:EDT
DTSTART:20220313T070000
END:DAYLIGHT
BEGIN:STANDARD
TZOFFSETFROM:-0400
TZOFFSETTO:-0500
TZNAME:EST
DTSTART:20221106T060000
END:STANDARD
BEGIN:DAYLIGHT
TZOFFSETFROM:-0500
TZOFFSETTO:-0400
TZNAME:EDT
DTSTART:20230312T070000
END:DAYLIGHT
BEGIN:STANDARD
TZOFFSETFROM:-0400
TZOFFSETTO:-0500
TZNAME:EST
DTSTART:20231105T060000
END:STANDARD
END:VTIMEZONE
BEGIN:VEVENT
DTSTART;TZID=America/New_York:20220519T180000
DTEND;TZID=America/New_York:20220519T210000
DTSTAMP:20260421T211810
CREATED:20210910T144633Z
LAST-MODIFIED:20220314T161303Z
UID:2037-1652983200-1652994000@www.mlsc.org
SUMMARY:The Women's Law Center of Maryland: 50th Anniversary Celebration & Awards Ceremony
DESCRIPTION:Save the date for the Women’s Law Center of Maryland’s 50th Anniversary on May 19\, 2022. Join us to honor WLC’s past\, present\, and future of advancing justice in Maryland\, and to honor Maryland’s exceptional leaders.
URL:https://www.mlsc.org/event/the-womens-law-center-of-maryland-50th-anniversary-celebration-awards-ceremony/
LOCATION:Live! Casino & Hotel – Maryland\, 7002 Arundel Mills\, Circle #7777\, Hanover\, MD\, 21076\, United States
CATEGORIES:Fundraiser/Recognition Event
ATTACH;FMTTYPE=image/jpeg:https://www.mlsc.org/wp-content/uploads/WLC-Logo-scaled-e1632408017214.jpg
END:VEVENT
BEGIN:VEVENT
DTSTART;TZID=America/New_York:20220513T190000
DTEND;TZID=America/New_York:20220513T190000
DTSTAMP:20260421T211810
CREATED:20220426T172124Z
LAST-MODIFIED:20220426T172205Z
UID:2589-1652468400-1652468400@www.mlsc.org
SUMMARY:Tahirih Justice Center: 25th Anniversary Gala\, Journey to Justice: Progress & Perseverance
DESCRIPTION:We are celebrating a monumental milestone at our organization – it has been 25 years since our doors opened\, and we have served more than 31\,000 immigrant survivors of gender-based violence. This will be a celebration of the service and impact that our supporters\, partners\, and communities have had on immigrant survivors seeking safety in the U.S. Event will be held in-person and via live-stream.
URL:https://www.mlsc.org/event/tahirih-justice-center-25th-anniversary-gala-journey-to-justice-progress-perseverance/
LOCATION:The Ritz-Carlton\, 1250 S Hayes St\, Arlington\, VA\, 22202\, United States
CATEGORIES:Fundraiser/Recognition Event
END:VEVENT
BEGIN:VEVENT
DTSTART;TZID=America/New_York:20220512T180000
DTEND;TZID=America/New_York:20220512T200000
DTSTAMP:20260421T211810
CREATED:20220408T155453Z
LAST-MODIFIED:20220420T144516Z
UID:2551-1652378400-1652385600@www.mlsc.org
SUMMARY:Disability Rights Maryland: 2022 Breaking Barriers Awards Gala
DESCRIPTION:The Breaking Barriers Awards Gala is Disability Rights Maryland’s (DRM) signature celebration\, shining a powerful spotlight on exceptional individuals who advance and protect the rights of Marylanders with disabilities. Funds raised at the Gala directly support DRM and expand our capacity to provide critical legal assistance to Marylanders with disabilities.
URL:https://www.mlsc.org/event/disability-rights-maryland-2022-breaking-barriers-awards-gala/
LOCATION:American Visionary Art Museum (AVAM)\, 800 Key Hwy\, Baltimore\, MD\, 21230\, United States
CATEGORIES:Fundraiser/Recognition Event
ATTACH;FMTTYPE=image/jpeg:https://www.mlsc.org/wp-content/uploads/DRM-Logo.jpg
END:VEVENT
BEGIN:VEVENT
DTSTART;TZID=America/New_York:20220427T180000
DTEND;TZID=America/New_York:20220427T180000
DTSTAMP:20260421T211810
CREATED:20211210T191323Z
LAST-MODIFIED:20220420T144341Z
UID:2235-1651082400-1651082400@www.mlsc.org
SUMMARY:Maryland Volunteer Lawyers Service: Taste For Pro Bono
DESCRIPTION:Join us on Wednesday\, April 27 at the Baltimore Museum of Industry to support Maryland’s largest provider of pro bono civil legal aid as we raise critical funds to provide justice for all. Our much-anticipated spring benefit brings together top attorneys\, business leaders\, and other members of our community for a fun night featuring food\, drinks\, networking\, and shared commitment to our cause. We’re excited for you to join us to get a “taste” of Baltimore and to experience the museum’s exhibits and waterfront patio.
URL:https://www.mlsc.org/event/maryland-volunteer-lawyers-service-taste-for-pro-bono/
LOCATION:Baltimore Museum of Industry
CATEGORIES:Fundraiser/Recognition Event
ATTACH;FMTTYPE=image/png:https://www.mlsc.org/wp-content/uploads/Logo-1-Horizontal-with-MVLS-1024x244-1.png
END:VEVENT
BEGIN:VEVENT
DTSTART;TZID=America/New_York:20220416T090000
DTEND;TZID=America/New_York:20220416T120000
DTSTAMP:20260421T211810
CREATED:20220314T161440Z
LAST-MODIFIED:20220314T161440Z
UID:2482-1650099600-1650110400@www.mlsc.org
SUMMARY:Maryland Crime Victims' Resource Center: Make a Difference for Victims' Rights 5k and Resource Fair
DESCRIPTION:Make a Difference for Victims’ Rights 5k “A Maryland Resource Event” will have something for everyone. Learn about victims’ rights and about resources that are available throughout Maryland… and have fun doing it. (Participation in 5k is not mandatory to attend the resource fair.) \nContact ssannabuckles@mdcrimevictims.org with questions or to learn about sponsorship/tabling opportunities.
URL:https://www.mlsc.org/event/maryland-crime-victims-resource-center-make-a-difference-for-victims-rights-5k-and-resource-fair/
LOCATION:Watkins Regional Park\, 301 Watkins Park Drive\, Upper Malboro\, 20774\, United States
CATEGORIES:Fundraiser/Recognition Event
END:VEVENT
BEGIN:VEVENT
DTSTART;TZID=America/New_York:20220413T120000
DTEND;TZID=America/New_York:20220413T140000
DTSTAMP:20260421T211810
CREATED:20220408T155244Z
LAST-MODIFIED:20220408T155530Z
UID:2549-1649851200-1649858400@www.mlsc.org
SUMMARY:Catholic Charities of Baltimore: Community Wednesday
DESCRIPTION:Join us in celebrating our volunteers at Union Craft Brewing in Baltimore\, MD! In honor of the many volunteers who so faithfully serve alongside the Esperanza Center\, $1 from every pizza and $1 from every pint purchased at Union Craft Brewing on April 13\, 2022 (during designated hours) will be donated to the Esperanza Center.
URL:https://www.mlsc.org/event/catholic-charities-of-baltimore-community-wednesday/
LOCATION:Union Craft Brewing\, 1700 W. 41st Street\, Baltimore\, MD\, 21211\, United States
CATEGORIES:Fundraiser/Recognition Event
END:VEVENT
BEGIN:VEVENT
DTSTART;TZID=America/New_York:20220411T180000
DTEND;TZID=America/New_York:20220411T203000
DTSTAMP:20260421T211810
CREATED:20220408T155104Z
LAST-MODIFIED:20220408T155621Z
UID:2547-1649700000-1649709000@www.mlsc.org
SUMMARY:Harford County Bar Foundation: Crafts & Cocktails
DESCRIPTION:You’re invited to a Main Street Community Event featuring crafts and cocktails on April 11\, 2022 from 6:00-8:30pm. Your ticket purchase includes a wreath\, 2 glasses of wine\, and light hors d’oeuvres. You will also have a chance to network and interact with community partners like the Harford County Bar Foundation\, The Nest on Main\, Home with Heather\, and One Eleven Main.
URL:https://www.mlsc.org/event/harford-county-bar-foundation-crafts-cocktails/
LOCATION:One Eleven Main\, 111 S. Main Street\, Bel Air\, Maryland\, 21014\, United States
CATEGORIES:Fundraiser/Recognition Event
END:VEVENT
BEGIN:VEVENT
DTSTART;TZID=America/New_York:20220127T100000
DTEND;TZID=America/New_York:20220127T100000
DTSTAMP:20260421T211810
CREATED:20211202T193106Z
LAST-MODIFIED:20211202T193106Z
UID:2217-1643277600-1643277600@www.mlsc.org
SUMMARY:MLSC FY23 Grant Information Webinar
DESCRIPTION:Maryland Legal Services Corporation will hold an informational webinar regarding FY23 funding opportunities on Tuesday\, January 27\, 2022 at 10:00 am. The webinar will cover general funding policies and priorities\, the grant application process and the forecast for MLSC’s FY23 funding level. We anticipate the webinar will take an hour or less. \nNonprofit organizations interested in continuing or seeking funding from MLSC for civil legal services for low-income Marylanders for fiscal year 2023 (July 1\, 2022 – June 30\, 2023) must submit an application no later than Monday\, March 15\, 2022. The application will open after the conclusion of the webinar. \nTo attend the webinar\, please register at https://us02web.zoom.us/meeting/register/tZwpfuGgqDsoGtSOZTWPL0GKcd3K9dmCSqfr.
URL:https://www.mlsc.org/event/mlsc-fy23-grant-information-webinar/
LOCATION:Online
END:VEVENT
BEGIN:VEVENT
DTSTART;TZID=America/New_York:20220121T180000
DTEND;TZID=America/New_York:20220121T200000
DTSTAMP:20260421T211810
CREATED:20220105T174324Z
LAST-MODIFIED:20220105T174324Z
UID:2298-1642788000-1642795200@www.mlsc.org
SUMMARY:Community Law Center: Virtual Trivia Night
DESCRIPTION:Join us Friday\, January 21\, 2022 for a fun night of virtual trivia from Charm City Trivia! \nProceeds from this charity event will be benefiting our work. \nEveryone is welcome to join in on the fun and a chance to win one of many prizes! \nTickets are pay-what-you-can $10-$20. Additional donations and sponsorships are welcome. We thank you for your support!
URL:https://www.mlsc.org/event/community-law-center-virtual-trivia-night/
LOCATION:Online
CATEGORIES:Fundraiser/Recognition Event
END:VEVENT
BEGIN:VEVENT
DTSTART;TZID=America/New_York:20211221T160000
DTEND;TZID=America/New_York:20211221T160000
DTSTAMP:20260421T211810
CREATED:20211202T191429Z
LAST-MODIFIED:20211202T191429Z
UID:2215-1640102400-1640102400@www.mlsc.org
SUMMARY:2021 MLSC Virtual Awards Ceremony
DESCRIPTION:Each year\, MLSC brings together Maryland’s legal services community to recognize people and organizations that have contributed significantly to the provision of legal services and access to justice for low-income Marylanders. MLSC honors the award recipients at an Annual Awards Reception in December. \nRegistration is free. Register by visiting www.mlsc.org/reception.
URL:https://www.mlsc.org/event/2021-mlsc-virtual-awards-ceremony/
LOCATION:Online
END:VEVENT
BEGIN:VEVENT
DTSTART;TZID=America/New_York:20211013T180000
DTEND;TZID=America/New_York:20211013T203000
DTSTAMP:20260421T211810
CREATED:20210830T144018Z
LAST-MODIFIED:20210923T143852Z
UID:2021-1634148000-1634157000@www.mlsc.org
SUMMARY:Maryland Volunteer Lawyers Service : Celebrate Pro Bono
DESCRIPTION:An evening of networking and celebration as we honor exceptional volunteers\, community partners\, and people like you whose commitment to pro bono during the past year has inspired us and changed the lives of Marylanders in need.
URL:https://www.mlsc.org/event/maryland-volunteer-lawyers-service-celebrate-pro-bono/
LOCATION:Reginald F. Lewis Museum of Maryland African American History and Culture\, 830 E Pratt St\, Baltimore\, MD\, 21202\, United States
CATEGORIES:Fundraiser/Recognition Event
ATTACH;FMTTYPE=image/png:https://www.mlsc.org/wp-content/uploads/2.-PRO-BONO-2021_NO-BG-600x264-1.png
END:VEVENT
BEGIN:VEVENT
DTSTART;TZID=America/New_York:20211007T170000
DTEND;TZID=America/New_York:20211007T190000
DTSTAMP:20260421T211810
CREATED:20210805T131538Z
LAST-MODIFIED:20210923T144237Z
UID:1960-1633626000-1633633200@www.mlsc.org
SUMMARY:Senior Legal Services: Cabaret & Cabernet
DESCRIPTION:Senior Legal Services & The Baltimore Bar Foundation present\nThe 7th Annual Fundraiser & Volunteer Recognition Event \nCabaret & Cabernet \nProduced & Directed by Jennifer Blades\nMusic Director\, Aaron Thacker \nFeaturing Members & Friends of the Bar \n5:00 Registration & Cocktail Hour\n5:45 Awards Presentation\n6:00 Cabaret
URL:https://www.mlsc.org/event/senior-legal-services-cabaret-cabernet/
LOCATION:Baltimore Rowing Club\, 3301 Waterview Avenue\, Baltimore\, MD\, 21230\, United States
ATTACH;FMTTYPE=image/jpeg:https://www.mlsc.org/wp-content/uploads/BBFSLS-Logo-scaled-e1632408146648.jpg
END:VEVENT
BEGIN:VEVENT
DTSTART;VALUE=DATE:20211001
DTEND;VALUE=DATE:20211101
DTSTAMP:20260421T211810
CREATED:20210928T134358Z
LAST-MODIFIED:20210928T134358Z
UID:2070-1633046400-1635724799@www.mlsc.org
SUMMARY:The Women's Law Center of Maryland: October 2021 Race for Rights
DESCRIPTION:Join the Women’s Law Center of Maryland this October – Domestic Violence Awareness Month – for a virtual Race for Rights. Choose your challenge: you can walk\, run\, bike\, hike\, paddle\, swim\, etc… however and whenever you want to participate during the month of October! In honor of WLC’s 50th Anniversary this year\, pledge to complete at least 50 minutes of race time!
URL:https://www.mlsc.org/event/the-womens-law-center-of-maryland-october-2021-race-for-rights/
LOCATION:Online
CATEGORIES:Fundraiser/Recognition Event
END:VEVENT
BEGIN:VEVENT
DTSTART;TZID=America/New_York:20210729T170000
DTEND;TZID=America/New_York:20210729T183000
DTSTAMP:20260421T211810
CREATED:20210610T150650Z
LAST-MODIFIED:20210610T150650Z
UID:1861-1627578000-1627583400@www.mlsc.org
SUMMARY:Harford County Bar Foundation: An Evening of Cocktails & Conversation with Colleen Oakley
DESCRIPTION:The Harford County Bar Foundation is excited to announce our annual Cocktails & Conversation fundraiser featuring author Colleen Oakley\, sponsored by Berkley Publishers. Please join us at One Eleven Main as we celebrate the release of The Invisible Husband of Frick Island. Tickets include two wine/beer or one cocktail beverage\, hors d’oeuvres\, and a copy of the book.
URL:https://www.mlsc.org/event/harford-county-bar-foundation-an-evening-of-cocktails-conversation-with-colleen-oakley/
LOCATION:One Eleven Main\, 111 S. Main Street\, Bel Air\, Maryland\, 21014\, United States
CATEGORIES:Fundraiser/Recognition Event
END:VEVENT
BEGIN:VEVENT
DTSTART;VALUE=DATE:20210630
DTEND;VALUE=DATE:20210701
DTSTAMP:20260421T211810
CREATED:20210621T173519Z
LAST-MODIFIED:20210621T173519Z
UID:1879-1625011200-1625097599@www.mlsc.org
SUMMARY:Pro Bono Resource Center of Maryland: Run for Justice 2021
DESCRIPTION:Join the Pro Bono Resource Center of Maryland for a virtual 5k run or walk to support critical legal assistance for families in need! Register and submit your time by 11:59pm on June 30. All participants will receive a sweet PBRC treat\, with additional prizes for the fastest individual runners and top team and individual fundraisers.
URL:https://www.mlsc.org/event/pro-bono-resource-center-of-maryland-run-for-justice-2021/
LOCATION:Online
CATEGORIES:Fundraiser/Recognition Event
END:VEVENT
BEGIN:VEVENT
DTSTART;TZID=America/New_York:20210603T090000
DTEND;TZID=America/New_York:20210604T163000
DTSTAMP:20260421T211810
CREATED:20210422T132429Z
LAST-MODIFIED:20210422T132429Z
UID:1767-1622710800-1622824200@www.mlsc.org
SUMMARY:PBRC: Veterans Legal Assistance Conference & Training
DESCRIPTION:Designed for lawyers\, law students\, veterans\, policymakers and other service professionals\, this annual conference provides a forum for discussion of critical legal issues facing our veterans.  It features substantive panels on hot topics in veterans law and also offers training to volunteer lawyers who commit to provide pro bono assistance to veterans in need. \nThe 2021 Veterans Legal Assistance Conference & Training is going virtual! Participate in this 2-day Conference from the comfort and safety of your home or office.
URL:https://www.mlsc.org/event/pbrc-veterans-legal-assistance-conference-training/
LOCATION:Online
CATEGORIES:Training
ATTACH;FMTTYPE=image/png:https://www.mlsc.org/wp-content/uploads/VLAC-Image-2021-e1619097863393.png
END:VEVENT
BEGIN:VEVENT
DTSTART;TZID=America/New_York:20210520T190000
DTEND;TZID=America/New_York:20210520T200000
DTSTAMP:20260421T211810
CREATED:20210514T153542Z
LAST-MODIFIED:20210514T153542Z
UID:1805-1621537200-1621540800@www.mlsc.org
SUMMARY:Whitman-Walker: Going the Extra Mile 2021
DESCRIPTION:Please join us on May 20\, 2021 for Going the Extra Mile\, our virtual annual cocktail reception to raise funds for Whitman-Walker’s Legal Services where we fight to protect every person’s legal right to live healthy\, love openly\, and achieve equality and inclusion. Your support ensures that we can continue to celebrate the amazing work of our staff\, volunteers\, and allies!
URL:https://www.mlsc.org/event/whitman-walker-going-the-extra-mile-2021/
LOCATION:Online
CATEGORIES:Fundraiser/Recognition Event
ATTACH;FMTTYPE=image/png:https://www.mlsc.org/wp-content/uploads/GTEM-Logo-Color_2021.png
END:VEVENT
BEGIN:VEVENT
DTSTART;VALUE=DATE:20210510
DTEND;VALUE=DATE:20210515
DTSTAMP:20260421T211810
CREATED:20210215T191337Z
LAST-MODIFIED:20210412T140659Z
UID:1639-1620604800-1621036799@www.mlsc.org
SUMMARY:PBRC: Partners for Justice Conference
DESCRIPTION:The Partners for Justice Conference presents a unique opportunity for legal services program staff\, the public and private bar\, members of the judiciary\, human services agencies\, elected officials\, and others to discuss critical issues facing the poor and underrepresented across the mid-Atlantic region and how we can improve access to justice. This year\, due to the pandemic\, PBRC’s annual conference will be entirely virtual\, so you can attend from the convenience of your home or office. The Conference will also be spread over several days\, so you will not have to miss any of the sessions!
URL:https://www.mlsc.org/event/pbrc-partners-for-justice-conference/
LOCATION:Online
CATEGORIES:Training
ATTACH;FMTTYPE=image/png:https://www.mlsc.org/wp-content/uploads/partners-for-justice-graphic-e1618236368221.png
END:VEVENT
BEGIN:VEVENT
DTSTART;TZID=America/New_York:20210506T180000
DTEND;TZID=America/New_York:20210506T213000
DTSTAMP:20260421T211810
CREATED:20200616T152400Z
LAST-MODIFIED:20210412T141228Z
UID:1269-1620324000-1620336600@www.mlsc.org
SUMMARY:Ayuda: Standing With Immigrants Awards Program and Reception
DESCRIPTION:Ayuda’s signature spring event\, Standing with Immigrants\, is all about supporting immigrants rebuild and transform their lives. The funds raised through the generosity of our supporters will enable Ayuda to sustain and expand its vital legal\, social and language access services\, and will directly impact the lives of low-income immigrants in D.C.\, Virginia and Maryland.
URL:https://www.mlsc.org/event/standing-with-immigrants-gala/
LOCATION:Online
CATEGORIES:Fundraiser/Recognition Event
ATTACH;FMTTYPE=image/png:https://www.mlsc.org/wp-content/uploads/Ayuda-e1618236741570.png
END:VEVENT
BEGIN:VEVENT
DTSTART;TZID=America/New_York:20210428T190000
DTEND;TZID=America/New_York:20210428T201500
DTSTAMP:20260421T211810
CREATED:20210218T152835Z
LAST-MODIFIED:20210412T141851Z
UID:1649-1619636400-1619640900@www.mlsc.org
SUMMARY:Women's Law Center: 2021 Annual Dinner & Awards Ceremony
DESCRIPTION:Help us celebrate another successful year and honor Maryland’s exceptional leaders.
URL:https://www.mlsc.org/event/womens-law-center-2021-annual-dinner-awards-ceremony/
LOCATION:Online
CATEGORIES:Fundraiser/Recognition Event
ATTACH;FMTTYPE=image/jpeg:https://www.mlsc.org/wp-content/uploads/WLC-Annual-Awards.jpg
END:VEVENT
BEGIN:VEVENT
DTSTART;TZID=America/New_York:20210427T120000
DTEND;TZID=America/New_York:20210427T131500
DTSTAMP:20260421T211810
CREATED:20210323T205906Z
LAST-MODIFIED:20210412T142201Z
UID:1712-1619524800-1619529300@www.mlsc.org
SUMMARY:MSBA: The State of Legal Services And Forecasting What Lies Ahead
DESCRIPTION:Join the Delivery of Legal Services Section for a panel discussion on the State of Legal Services & forecasting what lies ahead. \nTopics:\nLegal Services & COVID\nDLS Legislative Actions\nLegal Services Funding\nAttorney General Taskforce Initiatives\nFederal Landscape\nImmigration\nRight to Counsel\nLGBTQ
URL:https://www.mlsc.org/event/msba-the-state-of-legal-services-and-forecasting-what-lies-ahead/
LOCATION:Online
CATEGORIES:Training
ATTACH;FMTTYPE=image/jpeg:https://www.mlsc.org/wp-content/uploads/MSBA-State-of-Legal-Services-e1618237309750.jpg
END:VEVENT
BEGIN:VEVENT
DTSTART;TZID=America/New_York:20210423T190000
DTEND;TZID=America/New_York:20210423T210000
DTSTAMP:20260421T211810
CREATED:20210311T151341Z
LAST-MODIFIED:20210412T142700Z
UID:1697-1619204400-1619211600@www.mlsc.org
SUMMARY:MSBA Young Lawyers Section 30th Annual Charity Event benefiting Community Law Center
DESCRIPTION:The virtual Charity Event will include hors d’oeuvres and drinks prepared by Gertrude’s at the Baltimore Museum of Art\, a silent auction\, “Hits Through the Decades” Music Bingo presented by Charm City Trivia\, and a chance to win one of many prizes. \nThis year’s charity beneficiary is the Community Law Center. The Community Law Center has actively worked for over 30 years as Maryland’s only legal services organization dedicated solely to strengthening neighborhoods and serving the nonprofit sector.  The Community Law Center provides direct legal representation to neighborhood-led groups\, community associations\, grassroots organizations\, and small nonprofits throughout Maryland. Recognizing that a collaborative approach to legal representation helps dismantle systemic racism\, attorneys with the Community Law Center work in partnership with community leaders to support the priorities and initiatives of directly impacted groups. In addition to providing legal representation\, the Community Law Center also provides learning opportunities for its clients\, attorneys\, and community leaders\, including self-help publications\, workshops\, and training.  Through its work\, the Community Law Center has helped countless communities and nonprofits accomplish their goals and achieve their missions.  
URL:https://www.mlsc.org/event/msba-young-lawyers-section-30th-annual-charity-event-benefiting-community-law-center/
LOCATION:Online
CATEGORIES:Fundraiser/Recognition Event
ATTACH;FMTTYPE=image/jpeg:https://www.mlsc.org/wp-content/uploads/MSBA-YLS-CLC-e1618237610334.jpg
END:VEVENT
BEGIN:VEVENT
DTSTART;TZID=America/New_York:20210409T190000
DTEND;TZID=America/New_York:20210409T203000
DTSTAMP:20260421T211810
CREATED:20210401T140749Z
LAST-MODIFIED:20210401T140749Z
UID:1730-1617994800-1618000200@www.mlsc.org
SUMMARY:MPILP: Virtual Annual Goods and Services Auction Keynote Speaker Event
DESCRIPTION:The Maryland Public Interest Law Project (MPILP) invites you to participate in its first ever virtual Goods and Services Auction. The Keynote Event will begin with an opportunity to network with MPILP students\, supporters\, and UMD Carey Law Alumni in breakout rooms. Next\, we will hear opening remarks from our Dean\, Donald Tobin\, followed by speakers from the MPILP Community. Our Keynote Speaker will be Danielle Torain\, a 2010 alum who is now the Director of Open-Society Baltimore. \nMPILP raises money to fund grants for Maryland Carey Law students working unpaid summer internships in the public interest legal field. Since the organization’s founding in 1987\, MPILP has supported hundreds of law students who would otherwise go without funding in exchange for invaluable legal experience at public interest organizations. Please join us as we raise money for students devoting their summer to public interest work and feel free to bid on items donated from businesses all across Maryland and Washington D.C. \nThe virtual Auction begins April 4th at 10 AM and ends on April 11th at 10 PM. The link with the still-growing list of items up for auction can be found here: www.32auctions.com/MPILP2021.
URL:https://www.mlsc.org/event/mpilp-virtual-annual-goods-and-services-auction-keynote-speaker-event/
LOCATION:Online
CATEGORIES:Fundraiser/Recognition Event
END:VEVENT
BEGIN:VEVENT
DTSTART;TZID=America/New_York:20210404T100000
DTEND;TZID=America/New_York:20210411T220000
DTSTAMP:20260421T211810
CREATED:20210401T140951Z
LAST-MODIFIED:20210401T140951Z
UID:1734-1617530400-1618178400@www.mlsc.org
SUMMARY:MPILP: Virtual Annual Goods and Services Auction
DESCRIPTION:The Maryland Public Interest Law Project (MPILP) invites you to participate in its first ever virtual Goods and Services Auction. MPILP raises money to fund grants for Maryland Carey Law students working unpaid summer internships in the public interest legal field. Since the organization’s founding in 1987\, MPILP has supported hundreds of law students who would otherwise go without funding in exchange for invaluable legal experience at public interest organizations. Please join us as we raise money for students devoting their summer to public interest work and feel free to bid on items donated from businesses all across Maryland and Washington D.C. \nThe virtual Auction begins April 4th at 10 AM and ends on April 11th at 10 PM. \nFurther\, MPILP will be hosting a Keynote Event on April 9th at 7 PM! The Keynote Event will begin with an opportunity to network with MPILP students\, supporters\, and UMD Carey Law Alumni in breakout rooms. Next\, we will hear opening remarks from our Dean\, Donald Tobin\, followed by speakers from the MPILP Community. Our Keynote Speaker will be Danielle Torain\, a 2010 alumni who is now the Director of Open-Society Baltimore. We hope to see you there! \nYou can register for the Keynote Event free on Eventbrite: www.eventbrite.com/e/2021-mpilp-virtual-annual-goods-and-services-auction-keynote-speaker-event-tickets-148057202077.
URL:https://www.mlsc.org/event/mpilp-virtual-annual-goods-and-services-auction/
LOCATION:Online
CATEGORIES:Fundraiser/Recognition Event
END:VEVENT
BEGIN:VEVENT
DTSTART;TZID=America/New_York:20210112T110000
DTEND;TZID=America/New_York:20210112T120000
DTSTAMP:20260421T211810
CREATED:20201215T153228Z
LAST-MODIFIED:20201215T153228Z
UID:1568-1610449200-1610452800@www.mlsc.org
SUMMARY:MLSC FY22 Grant Information Webinar
DESCRIPTION:Maryland Legal Services Corporation will hold an informational webinar regarding FY22 funding opportunities on Tuesday\, January 12\, 2021 at 11:00 am. The webinar will cover general funding policies and priorities\, the grant application process and the forecast for MLSC’s FY22 funding level. We anticipate the webinar will take an hour or less. \nPlease email grants@mlsc.org for registration information. After registering\, you will receive an email with instructions on how to join the webinar. You will be able to listen to the audio of the meeting through your computer or by calling in on your phone. A recording of the webinar will be available after its completion. \nNonprofit organizations interested in continuing or seeking funding from MLSC for civil legal services for low-income Marylanders for fiscal year 2022 (July 1\, 2021 – June 30\, 2022) must submit an application no later than Monday\, March 15\, 2021. The application will open after the conclusion of the webinar.
URL:https://www.mlsc.org/event/mlsc-fy22-grant-information-webinar/
LOCATION:Online
END:VEVENT
BEGIN:VEVENT
DTSTART;VALUE=DATE:20201014
DTEND;VALUE=DATE:20201016
DTSTAMP:20260421T211810
CREATED:20200917T145055Z
LAST-MODIFIED:20200917T145150Z
UID:1455-1602633600-1602806399@www.mlsc.org
SUMMARY:Maryland Nonprofits: Annual Conference
DESCRIPTION:The 2020 Maryland Nonprofits & MARFY Annual Conference is an exciting\, fully virtual two-day convening of hundreds of nonprofit leaders who are Rising to the Challenge to show up and make great things happen despite difficult times. \nUse code Partner10 for a discount! \nThis immersive virtual experience includes:\n\n\n30 live\, real-time and interactive break-out sessions over 2 days;\nTwo exciting keynotes;\nSpeed coaching;\nVirtual exhibitor center;\nNetworking\, fun\, games\, and surprises; and\nPre-conference team trivia contest hosted by Walsh Trivia\n\nBreakout session tracks include:\n \n\nAdvocacy\nDiversity\, Equity\, & Inclusion\nFinancial Management\nGoverning Board\nHuman Resources\nHuman Services\nImproved Performance\nLeadership\nRisk Management\nStrategy
URL:https://www.mlsc.org/event/maryland-nonprofits-annual-conference/
LOCATION:Online
CATEGORIES:Training
END:VEVENT
BEGIN:VEVENT
DTSTART;TZID=America/New_York:20200709T190000
DTEND;TZID=America/New_York:20200709T210000
DTSTAMP:20260421T211810
CREATED:20200707T192500Z
LAST-MODIFIED:20200707T192558Z
UID:1336-1594321200-1594328400@www.mlsc.org
SUMMARY:Community Law Center: Baltimore Trivia Night
DESCRIPTION:Community Law Center invites you to have some fun online with your friends and test your knowledge of Baltimore trivia! You can register as an individual or create a team! Tickets are $5\, $10\, or $15 – pay what you can! If you can also make an additional donation to Community Law Center\, we would appreciate it so much!
URL:https://www.mlsc.org/event/community-law-center-baltimore-trivia-night/
LOCATION:Online
CATEGORIES:Fundraiser/Recognition Event
END:VEVENT
END:VCALENDAR