BEGIN:VCALENDAR
VERSION:2.0
PRODID:-//Maryland Legal Services Corporation - ECPv6.15.20//NONSGML v1.0//EN
CALSCALE:GREGORIAN
METHOD:PUBLISH
X-WR-CALNAME:Maryland Legal Services Corporation
X-ORIGINAL-URL:https://www.mlsc.org
X-WR-CALDESC:Events for Maryland Legal Services Corporation
REFRESH-INTERVAL;VALUE=DURATION:PT1H
X-Robots-Tag:noindex
X-PUBLISHED-TTL:PT1H
BEGIN:VTIMEZONE
TZID:America/New_York
BEGIN:DAYLIGHT
TZOFFSETFROM:-0500
TZOFFSETTO:-0400
TZNAME:EDT
DTSTART:20250309T070000
END:DAYLIGHT
BEGIN:STANDARD
TZOFFSETFROM:-0400
TZOFFSETTO:-0500
TZNAME:EST
DTSTART:20251102T060000
END:STANDARD
BEGIN:DAYLIGHT
TZOFFSETFROM:-0500
TZOFFSETTO:-0400
TZNAME:EDT
DTSTART:20260308T070000
END:DAYLIGHT
BEGIN:STANDARD
TZOFFSETFROM:-0400
TZOFFSETTO:-0500
TZNAME:EST
DTSTART:20261101T060000
END:STANDARD
BEGIN:DAYLIGHT
TZOFFSETFROM:-0500
TZOFFSETTO:-0400
TZNAME:EDT
DTSTART:20270314T070000
END:DAYLIGHT
BEGIN:STANDARD
TZOFFSETFROM:-0400
TZOFFSETTO:-0500
TZNAME:EST
DTSTART:20271107T060000
END:STANDARD
END:VTIMEZONE
BEGIN:VEVENT
DTSTART;TZID=America/New_York:20261004T170000
DTEND;TZID=America/New_York:20261004T210000
DTSTAMP:20260421T165957
CREATED:20260224T195256Z
LAST-MODIFIED:20260224T195256Z
UID:5697-1791133200-1791147600@www.mlsc.org
SUMMARY:2026 Victims' Rights Gala
DESCRIPTION:A Night of Hope and Empowerment \nMCVRC hosts its annual Victims’ Rights Gala to honor crime victims and raise awareness on their rights. The event brings together survivors\, advocates\, and community leaders to support our mission of providing legal advocacy\, resources\, and emotional support to victims of crime in Maryland.
URL:https://www.mlsc.org/event/2026-victims-rights-gala/
LOCATION:Hilton Baltimore BWI Airport\, 1739 W. Nursery Road\, Linthicum Heights\, MD\, 21090\, United States
CATEGORIES:Fundraiser/Recognition Event
END:VEVENT
END:VCALENDAR