BEGIN:VCALENDAR
VERSION:2.0
PRODID:-//Maryland Legal Services Corporation - ECPv6.15.20//NONSGML v1.0//EN
CALSCALE:GREGORIAN
METHOD:PUBLISH
X-WR-CALNAME:Maryland Legal Services Corporation
X-ORIGINAL-URL:https://www.mlsc.org
X-WR-CALDESC:Events for Maryland Legal Services Corporation
REFRESH-INTERVAL;VALUE=DURATION:PT1H
X-Robots-Tag:noindex
X-PUBLISHED-TTL:PT1H
BEGIN:VTIMEZONE
TZID:America/New_York
BEGIN:DAYLIGHT
TZOFFSETFROM:-0500
TZOFFSETTO:-0400
TZNAME:EDT
DTSTART:20210314T070000
END:DAYLIGHT
BEGIN:STANDARD
TZOFFSETFROM:-0400
TZOFFSETTO:-0500
TZNAME:EST
DTSTART:20211107T060000
END:STANDARD
BEGIN:DAYLIGHT
TZOFFSETFROM:-0500
TZOFFSETTO:-0400
TZNAME:EDT
DTSTART:20220313T070000
END:DAYLIGHT
BEGIN:STANDARD
TZOFFSETFROM:-0400
TZOFFSETTO:-0500
TZNAME:EST
DTSTART:20221106T060000
END:STANDARD
BEGIN:DAYLIGHT
TZOFFSETFROM:-0500
TZOFFSETTO:-0400
TZNAME:EDT
DTSTART:20230312T070000
END:DAYLIGHT
BEGIN:STANDARD
TZOFFSETFROM:-0400
TZOFFSETTO:-0500
TZNAME:EST
DTSTART:20231105T060000
END:STANDARD
BEGIN:DAYLIGHT
TZOFFSETFROM:-0500
TZOFFSETTO:-0400
TZNAME:EDT
DTSTART:20240310T070000
END:DAYLIGHT
BEGIN:STANDARD
TZOFFSETFROM:-0400
TZOFFSETTO:-0500
TZNAME:EST
DTSTART:20241103T060000
END:STANDARD
BEGIN:DAYLIGHT
TZOFFSETFROM:-0500
TZOFFSETTO:-0400
TZNAME:EDT
DTSTART:20250309T070000
END:DAYLIGHT
BEGIN:STANDARD
TZOFFSETFROM:-0400
TZOFFSETTO:-0500
TZNAME:EST
DTSTART:20251102T060000
END:STANDARD
END:VTIMEZONE
BEGIN:VEVENT
DTSTART;TZID=America/New_York:20241010T183000
DTEND;TZID=America/New_York:20241010T200000
DTSTAMP:20260421T154331
CREATED:20241010T221023Z
LAST-MODIFIED:20241010T221023Z
UID:4700-1728585000-1728590400@www.mlsc.org
SUMMARY:Build-Your-Own Charcuterie Board Class
DESCRIPTION:Join us at The Grazing Room located at 15 E. Churchville Road\, Suite #109 in Bel Air on Wednesday\, November 13th\, from 6:30 PM – 8:00 PM for a Build-Your-Own Charcuterie Board Class to benefit the Harford County Bar Foundation. You’ll learn about the history of charcuterie and the art of selecting the perfect variety of cheeses & other charcuterie accompaniments.
URL:https://www.mlsc.org/event/build-your-own-charcuterie-board-class/
LOCATION:The Grazing Room\, 15 E. Churchville Road\, Suite 109\, Bel Air\, MD\, 21014\, United States
END:VEVENT
BEGIN:VEVENT
DTSTART;TZID=America/New_York:20240927T083000
DTEND;TZID=America/New_York:20240927T173000
DTSTAMP:20260421T154331
CREATED:20240624T115619Z
LAST-MODIFIED:20240624T115651Z
UID:4418-1727425800-1727458200@www.mlsc.org
SUMMARY:Litigation Evaluation Involving Allegations of Abuse in Family Court
DESCRIPTION:Litigation and Evaluation involving Abuse Allegations in Family Court Cases (LEFCC) is a grant subsidized innovative specialized training for legal professionals (family court lawyers\, judges\, GALs\, etc.) and mental health professionals (expert witnesses\, child custody evaluators\, etc.) sponsored by the Professional Consortium on Abuse Allegations in Family Court. Applications required. 2.5 days.
URL:https://www.mlsc.org/event/litigation-evaluation-involving-allegations-of-abuse-in-family-court/
LOCATION:MD
ORGANIZER;CN="Civil Justice%2C Inc.":MAILTO:mjacobs@civiljusticeinc.org
END:VEVENT
BEGIN:VEVENT
DTSTART;TZID=America/New_York:20240926T180000
DTEND;TZID=America/New_York:20240926T203000
DTSTAMP:20260421T154331
CREATED:20240710T141730Z
LAST-MODIFIED:20240710T141730Z
UID:4489-1727373600-1727382600@www.mlsc.org
SUMMARY:Breaking Barriers Awards Gala
DESCRIPTION:The Breaking Barriers Awards Gala is DRM’s signature celebration where we honor visionary leaders who further the rights of Marylanders with disabilities. Funds raised go towards ensuring that Marylanders with disabilities\, regardless of income\, age or race\, have access to critical legal services.
URL:https://www.mlsc.org/event/breaking-barriers-awards-gala/
LOCATION:American Visionary Art Musuem\, 800 Key Hwy\, Baltimore\, MD\, 21230\, United States
END:VEVENT
BEGIN:VEVENT
DTSTART;TZID=America/New_York:20240518T160000
DTEND;TZID=America/New_York:20240518T200000
DTSTAMP:20260421T154331
CREATED:20240213T143052Z
LAST-MODIFIED:20240213T143052Z
UID:4143-1716048000-1716062400@www.mlsc.org
SUMMARY:Heroes of Child Justice
DESCRIPTION:This private fundraiser will honor Maryland officials\, attorneys\, donors\, and advocates that make our mission possible. The event is by invitation only.
URL:https://www.mlsc.org/event/heroes-of-child-justice/
LOCATION:MD
ORGANIZER;CN="Child Justice":MAILTO:info@child-justice.org
END:VEVENT
BEGIN:VEVENT
DTSTART;TZID=America/New_York:20240508T110000
DTEND;TZID=America/New_York:20240508T140000
DTSTAMP:20260421T154331
CREATED:20240307T124949Z
LAST-MODIFIED:20240307T124949Z
UID:4206-1715166000-1715176800@www.mlsc.org
SUMMARY:Deed Drafting\, Life Estates\, and Recording
DESCRIPTION:Join Shore Legal Access (SLA) and Maryland Volunteer Lawyers Service (MVLS) for an attorney training on deed drafting\, life estates\, and recording on Wednesday\, May 8th from 11:00am to 2:00pm at the Talbot County Free Library\, 100 W. Dover Street\, Easton\, Maryland 21601. Lunch provided! Registration required.
URL:https://www.mlsc.org/event/deed-drafting-life-estates-and-recording/
LOCATION:talbot County Free Library\, 100 W. Dover Street\, Easton\, 21601\, United States
ORGANIZER;CN="Shore Legal Access":MAILTO:LChafey@shorelegal.org
END:VEVENT
BEGIN:VEVENT
DTSTART;TZID=America/New_York:20240507T180000
DTEND;TZID=America/New_York:20240507T210000
DTSTAMP:20260421T154331
CREATED:20240327T141121Z
LAST-MODIFIED:20240327T141121Z
UID:4252-1715104800-1715115600@www.mlsc.org
SUMMARY:Annual Awards & Celebration
DESCRIPTION:Join us to celebrate the Women’s Law Center and honor some of Maryland’s exceptional leaders! 2024 Honorees include MLSC Executive Director\, Michelle Siri; Margaret Johnson\, University of Baltimore School of Law; and Maryland Attorney General Anthony Brown. Celebrate another year advancing justice and ensuring the physical safety\, economic security\, and autonomy of women throughout the state.
URL:https://www.mlsc.org/event/annual-awards-celebration/
LOCATION:Citron Baltimore\, 2605 Quarry Lake Dr\, Baltimore\, 21209\, United States
END:VEVENT
BEGIN:VEVENT
DTSTART;TZID=America/New_York:20240420T080000
DTEND;TZID=America/New_York:20240420T113000
DTSTAMP:20260421T154331
CREATED:20240327T141950Z
LAST-MODIFIED:20240327T142009Z
UID:4256-1713600000-1713612600@www.mlsc.org
SUMMARY:Make a Difference 5k & Resource Fair
DESCRIPTION:MCVRC is hosting a 5k and Resource Fair inviting many resources from around Maryland to come and showcase the resources they offer. We will also be inviting our families and community to learn about resources and come together in unity. \nFor the 5k\, participants may walk or run for free. Timed run available. \nNonprofit resources may table for FREE. Sponsorship opportunities available.
URL:https://www.mlsc.org/event/make-a-difference-5k-resource-fair/
LOCATION:Watkins Regional Park\, 301 Watkins Park Drive\, Upper Malboro\, 20774\, United States
CATEGORIES:Fundraiser/Recognition Event
END:VEVENT
BEGIN:VEVENT
DTSTART;TZID=America/New_York:20240416T180000
DTEND;TZID=America/New_York:20240416T210000
DTSTAMP:20260421T154331
CREATED:20240117T184602Z
LAST-MODIFIED:20240117T184602Z
UID:4093-1713290400-1713301200@www.mlsc.org
SUMMARY:A Taste for Pro Bono
DESCRIPTION: \nFood\, drinks\, and fun – to provide justice for all. Join MVLS for our signature fundraiser at the Baltimore Museum of Industry. Tickets ($100) and sponsorships available now at www.mvlslaw.org/tas
URL:https://www.mlsc.org/event/a-taste-for-pro-bono/
LOCATION:Baltimore Museum of Industry
END:VEVENT
BEGIN:VEVENT
DTSTART;TZID=America/New_York:20240405T080000
DTEND;TZID=America/New_York:20240405T164500
DTSTAMP:20260421T154331
CREATED:20240131T154803Z
LAST-MODIFIED:20240131T154803Z
UID:4116-1712304000-1712335500@www.mlsc.org
SUMMARY:15th Annual Veterans Legal Assistance Conference & Training
DESCRIPTION:Designed for lawyers\, law students\, veterans\, policymakers and other service professionals\, this annual conference provides a forum for discussion of critical legal issues facing our veterans. The conference will include a training for pro bono lawyers\, as well as training for non-attorney veterans interested in serving as mentors in Veterans Treatment Courts.
URL:https://www.mlsc.org/event/15th-annual-veterans-legal-assistance-conference-training/
LOCATION:University of Baltimore\, William H. Thumel Sr. Business Center\, 11 W. Mount Royal Avenue\, Baltimore\, 21201\, United States
END:VEVENT
BEGIN:VEVENT
DTSTART;TZID=America/New_York:20231116T180000
DTEND;TZID=America/New_York:20231116T200000
DTSTAMP:20260421T154331
CREATED:20230426T160654Z
LAST-MODIFIED:20230510T135211Z
UID:3528-1700157600-1700164800@www.mlsc.org
SUMMARY:Maryland Legal Services Corporation: Annual Awards Reception
DESCRIPTION:Save the Date!
URL:https://www.mlsc.org/event/maryland-legal-services-corporation-annual-awards-reception/
LOCATION:University of Maryland School of Law – Westminster Hall\, 519 West Fayette Street\, Baltimore\, MD\, 21201\, United States
END:VEVENT
BEGIN:VEVENT
DTSTART;TZID=America/New_York:20231017T183000
DTEND;TZID=America/New_York:20231017T203000
DTSTAMP:20260421T154331
CREATED:20230804T161259Z
LAST-MODIFIED:20230804T161259Z
UID:3781-1697567400-1697574600@www.mlsc.org
SUMMARY:Celebrate Pro Bono
DESCRIPTION:Honoring exceptional volunteers and community partners whose commitment to pro bono during the past year has inspired us and changed the lives of Marylanders in need. \n 
URL:https://www.mlsc.org/event/celebrate-pro-bono/
LOCATION:Reginald F. Lewis Museum of Maryland African American History and Culture\, 830 E Pratt St\, Baltimore\, MD\, 21202\, United States
END:VEVENT
BEGIN:VEVENT
DTSTART;TZID=America/New_York:20230923T170000
DTEND;TZID=America/New_York:20230923T210000
DTSTAMP:20260421T154331
CREATED:20230628T130202Z
LAST-MODIFIED:20230628T130202Z
UID:3662-1695488400-1695502800@www.mlsc.org
SUMMARY:Victims' Rights Gala: Survivor Voices
DESCRIPTION:MCVRC has been helping victims and survivors of crime find their voices for 41 years. Join us as we celebrate these amazing Survivor Voices! \nWe will once again join hands with our biggest advocates\, organizations\, partners and families that truly care about victims’ voices. At the event\, we will be awarding the Roberta Roper Lifetime Achievement Award.
URL:https://www.mlsc.org/event/victims-rights-gala-survivor-voices/
LOCATION:Crown Plaza\, 173 Jennifer Road\, Annapolis\, MD\, 21401\, United States
END:VEVENT
BEGIN:VEVENT
DTSTART;TZID=America/New_York:20230920T180000
DTEND;TZID=America/New_York:20230920T203000
DTSTAMP:20260421T154331
CREATED:20230607T173222Z
LAST-MODIFIED:20230607T173222Z
UID:3619-1695232800-1695241800@www.mlsc.org
SUMMARY:2023 Breaking Barriers Awards Gala
DESCRIPTION:
URL:https://www.mlsc.org/event/2023-breaking-barriers-awards-gala/
LOCATION:American Visionary Art Museum (AVAM)\, 800 Key Hwy\, Baltimore\, MD\, 21230\, United States
CATEGORIES:Fundraiser/Recognition Event
END:VEVENT
BEGIN:VEVENT
DTSTART;TZID=America/New_York:20230830T160000
DTEND;TZID=America/New_York:20230830T210000
DTSTAMP:20260421T154331
CREATED:20230721T170426Z
LAST-MODIFIED:20230721T170426Z
UID:3742-1693411200-1693429200@www.mlsc.org
SUMMARY:Tap Takeover: Civil Justice\, Inc.
DESCRIPTION:Civil Justice\, Inc. is taking over the taps at Bark Social – join us for pups\, pints\, and a good cause!\nDuring the takeover\, 10% of all beer wall sales go to Civil Justice to support our work in increasing access to justice for Marylanders.\nAll humans are welcome\, whether you have a dog or are just a dog enthusiast. Guests without dogs may enter for free. Dogs must have a membership or pass.
URL:https://www.mlsc.org/event/tap-takeover-civil-justice-inc/
LOCATION:Bark Social Bethesda\, 935 Prose Street\, North Bethesda\, MD\, 20852\, United States
ORGANIZER;CN="Civil Justice%2C Inc.":MAILTO:mjacobs@civiljusticeinc.org
END:VEVENT
BEGIN:VEVENT
DTSTART;TZID=America/New_York:20230525T081500
DTEND;TZID=America/New_York:20230525T153000
DTSTAMP:20260421T154331
CREATED:20221209T134349Z
LAST-MODIFIED:20221209T134349Z
UID:3181-1685002500-1685028600@www.mlsc.org
SUMMARY:Pro Bono Resource Center of Maryland: Partners for Justice Conference
DESCRIPTION:An annual gathering of legal services and public interest advocates for a full day of programming on access to justice issues.
URL:https://www.mlsc.org/event/pro-bono-resource-center-of-maryland-partners-for-justice-conference/
LOCATION:Baltimore Convention Center\, 1 West Pratt Street\, Baltimore\, MD\, 21201\, United States
CATEGORIES:Training
END:VEVENT
BEGIN:VEVENT
DTSTART;TZID=America/New_York:20230512T180000
DTEND;TZID=America/New_York:20230512T230000
DTSTAMP:20260421T154331
CREATED:20230308T131338Z
LAST-MODIFIED:20230308T131338Z
UID:3406-1683914400-1683932400@www.mlsc.org
SUMMARY:FreeState Justice: The Sunset Soirée: Pride Launch Party & Dinner
DESCRIPTION:Help FreeState Justice kick off Pride festivities on Friday\, May 12th\, at the American Visionary Art Museum! The Sunset Soirée will be hosted on the JRVC 3rd Floor and consists of two events: a dinner and cocktail hour at 6:00 pm and a soirée at 8:00 pm. All proceeds support the legal and education program of FreeState Justice. \nFreeState Justice’s services benefit LGBTQIA+ Marylanders in need.
URL:https://www.mlsc.org/event/freestate-justice-the-sunset-soiree-pride-launch-party-dinner/
LOCATION:American Visionary Art Museum (AVAM)\, 800 Key Hwy\, Baltimore\, MD\, 21230\, United States
CATEGORIES:Fundraiser/Recognition Event
END:VEVENT
BEGIN:VEVENT
DTSTART;TZID=America/New_York:20230509T180000
DTEND;TZID=America/New_York:20230509T200000
DTSTAMP:20260421T154331
CREATED:20230210T163539Z
LAST-MODIFIED:20230210T163539Z
UID:3367-1683655200-1683662400@www.mlsc.org
SUMMARY:Harford County Bar Foundation: On Tap with Jennifer Vido
DESCRIPTION:Please join us on Tuesday\, May 9th\, from 6 PM to 8 PM at Market Street Brewery in Havre de Grace to celebrate the release of Serendipity by the Sea by Jennifer Vido. Tickets include a flight of beer\, hors d’oeuvres\, and the book. Tickets\, sponsorships\, and book-only options are available. All proceeds will assist in serving the legal needs of residents in our community.
URL:https://www.mlsc.org/event/harford-county-bar-foundation-on-tap-with-jennifer-vido/
LOCATION:Market Street Brewery\, 203 Market Street\, Havre de Grace\, 21078\, United States
CATEGORIES:Fundraiser/Recognition Event
END:VEVENT
BEGIN:VEVENT
DTSTART;TZID=America/New_York:20230503T180000
DTEND;TZID=America/New_York:20230503T203000
DTSTAMP:20260421T154331
CREATED:20221014T122638Z
LAST-MODIFIED:20221014T122638Z
UID:3030-1683136800-1683145800@www.mlsc.org
SUMMARY:The Women's Law Center of Maryland: Annual Celebration & Awards Ceremony
DESCRIPTION:Join us in celebrating over 50 years of advancing justice in our state and honoring exceptional leaders.
URL:https://www.mlsc.org/event/the-womens-law-center-of-maryland-annual-celebration-awards-ceremony/
LOCATION:The Cove at Citron\, 2605 Quarry Lake Drive\, Baltimore\, 21209\, United States
CATEGORIES:Fundraiser/Recognition Event
END:VEVENT
BEGIN:VEVENT
DTSTART;TZID=America/New_York:20230427T180000
DTEND;TZID=America/New_York:20230427T210000
DTSTAMP:20260421T154331
CREATED:20230308T131607Z
LAST-MODIFIED:20230308T131607Z
UID:3410-1682618400-1682629200@www.mlsc.org
SUMMARY:Maryland Volunteer Lawyers Service: A Taste for Pro Bono
DESCRIPTION:Please join MVLS and presenting sponsor Saul Ewing for a fundraising and networking event at the Baltimore Museum of Industry. Guests will enjoy a tasting menu\, beer & wine\, the museum\, and iconic views of the harbor. 100% of proceeds support free legal help at Maryland Volunteer Lawyers Service. General admission tickets are $100 and corporate sponsorships are available. Visit www.mvlslaw.org.
URL:https://www.mlsc.org/event/maryland-volunteer-lawyers-service-a-taste-for-pro-bono/
LOCATION:Baltimore Museum of Industry
CATEGORIES:Fundraiser/Recognition Event
END:VEVENT
BEGIN:VEVENT
DTSTART;TZID=America/New_York:20230415T080000
DTEND;TZID=America/New_York:20230415T110000
DTSTAMP:20260421T154331
CREATED:20230208T143740Z
LAST-MODIFIED:20230208T143740Z
UID:3365-1681545600-1681556400@www.mlsc.org
SUMMARY:Maryland Crime Victims' Resource Center: 2023 Make a Difference 5k and Resource Fair
DESCRIPTION:Join us at our 2nd Annual Make a Difference 5k and Resource Fair. We are inviting our community to come together to learn about victims’ rights\, remember lives lost and honor our heroes. We are looking for sponsors and participants. \nNon-profits providing resources to victims and the community are invited to table for free. Sponsorship opportunities are available.
URL:https://www.mlsc.org/event/maryland-crime-victims-resource-center-2023-make-a-difference-5k-and-resource-fair/
LOCATION:Watkins Regional Park\, 301 Watkins Park Drive\, Upper Malboro\, 20774\, United States
CATEGORIES:Fundraiser/Recognition Event,Other
END:VEVENT
BEGIN:VEVENT
DTSTART;TZID=America/New_York:20230130T170000
DTEND;TZID=America/New_York:20230130T180000
DTSTAMP:20260421T154331
CREATED:20221031T190146Z
LAST-MODIFIED:20221220T161352Z
UID:3069-1675098000-1675101600@www.mlsc.org
SUMMARY:Harford County Bar Foundation: A Virtual Night In
DESCRIPTION:One Eleven Main’s Chef Bryan Boessel shares the secret to cooking the perfect spinach salad with warm bacon apple cider vinaigrette\, seafood cioppino with bucatini pasta\, shrimp\, clams\, crab & mussels\, garlic crostini with prosciutto & parmesan\, and boozy hot chocolate with a chocolate bomb with wine from the comfort of your home. (Each kit includes all ingredients and your choice of wine.)
URL:https://www.mlsc.org/event/harford-county-bar-foundation-a-virtual-night-in/
LOCATION:Online
CATEGORIES:Fundraiser/Recognition Event
END:VEVENT
BEGIN:VEVENT
DTSTART;TZID=America/New_York:20221114T180000
DTEND;TZID=America/New_York:20221114T200000
DTSTAMP:20260421T154331
CREATED:20220426T171857Z
LAST-MODIFIED:20220426T171857Z
UID:2586-1668448800-1668456000@www.mlsc.org
SUMMARY:MLSC: Annual Awards Reception
DESCRIPTION:Each year\, MLSC brings together Maryland’s legal services community to recognize people and organizations that have contributed significantly to the provision of legal services and access to justice for low-income Marylanders.
URL:https://www.mlsc.org/event/mlsc-annual-awards-reception/
LOCATION:University of Maryland School of Law – Westminster Hall\, 519 West Fayette Street\, Baltimore\, MD\, 21201\, United States
CATEGORIES:Fundraiser/Recognition Event
END:VEVENT
BEGIN:VEVENT
DTSTART;TZID=America/New_York:20221025T183000
DTEND;TZID=America/New_York:20221025T203000
DTSTAMP:20260421T154331
CREATED:20220727T162552Z
LAST-MODIFIED:20220921T152349Z
UID:2833-1666722600-1666729800@www.mlsc.org
SUMMARY:Maryland Volunteer Lawyers Service: Celebrate Pro Bono
DESCRIPTION:Join us for lite fare\, beer and wine and an awards ceremony recognizing incredible pro bono volunteers and community partners.
URL:https://www.mlsc.org/event/maryland-volunteer-lawyers-service-celebrate-pro-bono-2/
LOCATION:Reginald F. Lewis Museum of Maryland African American History and Culture\, 830 E Pratt St\, Baltimore\, MD\, 21202\, United States
CATEGORIES:Fundraiser/Recognition Event
END:VEVENT
BEGIN:VEVENT
DTSTART;TZID=America/New_York:20221017T180000
DTEND;TZID=America/New_York:20221017T203000
DTSTAMP:20260421T154331
CREATED:20220912T124238Z
LAST-MODIFIED:20220912T124238Z
UID:2952-1666029600-1666038600@www.mlsc.org
SUMMARY:The Women's Law Center of Maryland: World of Women Trivia Night
DESCRIPTION:Join us for World of Women trivia at World of Beer! October is Domestic Violence Awareness Month\, so help support our DV projects and other work by registering or making a donation. Join us for women-themed questions and fun prizes. Sign up as a team\, or register as an individual and we will place you on a team.
URL:https://www.mlsc.org/event/the-womens-law-center-of-maryland-world-of-women-trivia-night/
LOCATION:World of Beer Towson\, 125 E Joppa Road\, Towson\, MD\, 21286\, United States
CATEGORIES:Fundraiser/Recognition Event
END:VEVENT
BEGIN:VEVENT
DTSTART;TZID=America/New_York:20221015T180000
DTEND;TZID=America/New_York:20221015T210000
DTSTAMP:20260421T154331
CREATED:20220701T121705Z
LAST-MODIFIED:20220701T121903Z
UID:2759-1665856800-1665867600@www.mlsc.org
SUMMARY:Maryland Crime Victims' Resource Center: 40th Anniversary Celebration
DESCRIPTION:Our anniversary celebration will occur on Saturday\, October 15th at the Crown Plaza in Annapolis. We will join hands with our biggest advocates\, and organizations and partners that care about victims’ rights to celebrate the advances that have been made and to regain focus on the work that is yet to be done.
URL:https://www.mlsc.org/event/maryland-crime-victims-resource-center-40th-anniversary-celebration/
LOCATION:Crown Plaza\, 173 Jennifer Road\, Annapolis\, MD\, 21401\, United States
CATEGORIES:Fundraiser/Recognition Event
END:VEVENT
BEGIN:VEVENT
DTSTART;TZID=America/New_York:20220930T090000
DTEND;TZID=America/New_York:20220930T170000
DTSTAMP:20260421T154331
CREATED:20220426T171608Z
LAST-MODIFIED:20220504T150949Z
UID:2583-1664528400-1664557200@www.mlsc.org
SUMMARY:MLSC: Access to Counsel in Evictions - Training Symposium
DESCRIPTION:Save the Date
URL:https://www.mlsc.org/event/mlsc-access-to-counsel-in-evictions-training-symposium/
LOCATION:University of Maryland School of Law
CATEGORIES:Training
END:VEVENT
BEGIN:VEVENT
DTSTART;TZID=America/New_York:20220922T173000
DTEND;TZID=America/New_York:20220922T193000
DTSTAMP:20260421T154331
CREATED:20220505T120544Z
LAST-MODIFIED:20220505T120544Z
UID:2623-1663867800-1663875000@www.mlsc.org
SUMMARY:Maryland Volunteer Lawyers Service : Judicial Reception
DESCRIPTION:An information evening for volunteers and judges to mingle\, includes light appetizers and drinks.
URL:https://www.mlsc.org/event/maryland-volunteer-lawyers-service-judicial-reception/
LOCATION:Harbor East Amenity Center/Outdoor Terrace\, 1001 Fleet Street\, Baltimore\, MD\, 21202\, United States
CATEGORIES:Fundraiser/Recognition Event
END:VEVENT
BEGIN:VEVENT
DTSTART;TZID=America/New_York:20220915T180000
DTEND;TZID=America/New_York:20220915T200000
DTSTAMP:20260421T154331
CREATED:20220413T105605Z
LAST-MODIFIED:20220420T144633Z
UID:2561-1663264800-1663272000@www.mlsc.org
SUMMARY:Pro Bono Resource Center of Maryland: Pro Bono Block Party\, Building Communities of Justice
DESCRIPTION:Save the Date!
URL:https://www.mlsc.org/event/pro-bono-resource-center-of-maryland-pro-bono-block-party-building-communities-of-justice/
LOCATION:Baltimore Museum of Industry
CATEGORIES:Fundraiser/Recognition Event
END:VEVENT
BEGIN:VEVENT
DTSTART;TZID=America/New_York:20220728T170000
DTEND;TZID=America/New_York:20220728T183000
DTSTAMP:20260421T154332
CREATED:20220616T152237Z
LAST-MODIFIED:20220616T152237Z
UID:2723-1659027600-1659033000@www.mlsc.org
SUMMARY:Harford County Bar Foundation: An Evening of Cocktails & Conversation with New York Times Bestselling Author Kate White
DESCRIPTION:HCBF’s Summer Book Series:\nOur next Cocktails & Conversation fundraiser will take place on Thursday\, July 28th from 5-6:30 pm at One Eleven Main in Bel Air\, MD. Please join us as we celebrate the release of The Second Husband by Kate White\, New York Times Bestselling author and former editor-in-chief of Cosmopolitan magazine.
URL:https://www.mlsc.org/event/harford-county-bar-foundation-an-evening-of-cocktails-conversation-with-new-york-times-bestselling-author-kate-white/
LOCATION:One Eleven Main\, 111 S. Main Street\, Bel Air\, Maryland\, 21014\, United States
CATEGORIES:Fundraiser/Recognition Event
END:VEVENT
BEGIN:VEVENT
DTSTART;TZID=America/New_York:20220526T081500
DTEND;TZID=America/New_York:20220526T153000
DTSTAMP:20260421T154332
CREATED:20220420T144906Z
LAST-MODIFIED:20220420T144906Z
UID:2576-1653552900-1653579000@www.mlsc.org
SUMMARY:Pro Bono Resource Center: Partners for Justice Conference
DESCRIPTION:The Partners for Justice Conference takes place annually\, and presents a unique opportunity for legal services program staff\, the public and private bar\, members of the judiciary\, human services agencies\, elected officials\, and others to discuss critical issues facing the poor and underrepresented across the mid-Atlantic region and how we can improve access to justice. \nJoin us as we get together in-person for the first time since the start of the pandemic for our 23rd annual Partners for Justice Conference. Speakers and panelists from over 30 different organizations\, government agencies\, and law firms across Maryland and the United States will share their thoughts and ideas while leading discussions on key access-to-justice issues.
URL:https://www.mlsc.org/event/pro-bono-resource-center-partners-for-justice-conference/
LOCATION:Baltimore Convention Center\, 1 West Pratt Street\, Baltimore\, MD\, 21201\, United States
CATEGORIES:Training
ATTACH;FMTTYPE=image/jpeg:https://www.mlsc.org/wp-content/uploads/Partners-for-Justice-Conference-Logo.jpg
END:VEVENT
END:VCALENDAR