BEGIN:VCALENDAR
VERSION:2.0
PRODID:-//Maryland Legal Services Corporation - ECPv6.15.20//NONSGML v1.0//EN
CALSCALE:GREGORIAN
METHOD:PUBLISH
X-ORIGINAL-URL:https://www.mlsc.org
X-WR-CALDESC:Events for Maryland Legal Services Corporation
REFRESH-INTERVAL;VALUE=DURATION:PT1H
X-Robots-Tag:noindex
X-PUBLISHED-TTL:PT1H
BEGIN:VTIMEZONE
TZID:America/New_York
BEGIN:DAYLIGHT
TZOFFSETFROM:-0500
TZOFFSETTO:-0400
TZNAME:EDT
DTSTART:20250309T070000
END:DAYLIGHT
BEGIN:STANDARD
TZOFFSETFROM:-0400
TZOFFSETTO:-0500
TZNAME:EST
DTSTART:20251102T060000
END:STANDARD
BEGIN:DAYLIGHT
TZOFFSETFROM:-0500
TZOFFSETTO:-0400
TZNAME:EDT
DTSTART:20260308T070000
END:DAYLIGHT
BEGIN:STANDARD
TZOFFSETFROM:-0400
TZOFFSETTO:-0500
TZNAME:EST
DTSTART:20261101T060000
END:STANDARD
BEGIN:DAYLIGHT
TZOFFSETFROM:-0500
TZOFFSETTO:-0400
TZNAME:EDT
DTSTART:20270314T070000
END:DAYLIGHT
BEGIN:STANDARD
TZOFFSETFROM:-0400
TZOFFSETTO:-0500
TZNAME:EST
DTSTART:20271107T060000
END:STANDARD
END:VTIMEZONE
BEGIN:VEVENT
DTSTART;TZID=America/New_York:20260911T083000
DTEND;TZID=America/New_York:20260911T173000
DTSTAMP:20260421T151653
CREATED:20260211T202537Z
LAST-MODIFIED:20260211T202537Z
UID:5671-1789115400-1789147800@www.mlsc.org
SUMMARY:Maryland Consumer Law Conference
DESCRIPTION:The University of Maryland School of Law and Civil Justice are hosting a one-day conference that brings together legal services staff and private consumer law attorneys to examine substantive consumer issues and explore collaborative strategies between the legal services sector and private bar to expand access to justice for Maryland consumers.
URL:https://www.mlsc.org/event/maryland-consumer-law-conference/
LOCATION:University of Maryland School of Law
ORGANIZER;CN="Civil Justice%2C Inc.":MAILTO:mjacobs@civiljusticeinc.org
END:VEVENT
END:VCALENDAR