BEGIN:VCALENDAR
VERSION:2.0
PRODID:-//Maryland Legal Services Corporation - ECPv6.15.20//NONSGML v1.0//EN
CALSCALE:GREGORIAN
METHOD:PUBLISH
X-ORIGINAL-URL:https://www.mlsc.org
X-WR-CALDESC:Events for Maryland Legal Services Corporation
REFRESH-INTERVAL;VALUE=DURATION:PT1H
X-Robots-Tag:noindex
X-PUBLISHED-TTL:PT1H
BEGIN:VTIMEZONE
TZID:America/New_York
BEGIN:DAYLIGHT
TZOFFSETFROM:-0500
TZOFFSETTO:-0400
TZNAME:EDT
DTSTART:20250309T070000
END:DAYLIGHT
BEGIN:STANDARD
TZOFFSETFROM:-0400
TZOFFSETTO:-0500
TZNAME:EST
DTSTART:20251102T060000
END:STANDARD
BEGIN:DAYLIGHT
TZOFFSETFROM:-0500
TZOFFSETTO:-0400
TZNAME:EDT
DTSTART:20260308T070000
END:DAYLIGHT
BEGIN:STANDARD
TZOFFSETFROM:-0400
TZOFFSETTO:-0500
TZNAME:EST
DTSTART:20261101T060000
END:STANDARD
BEGIN:DAYLIGHT
TZOFFSETFROM:-0500
TZOFFSETTO:-0400
TZNAME:EDT
DTSTART:20270314T070000
END:DAYLIGHT
BEGIN:STANDARD
TZOFFSETFROM:-0400
TZOFFSETTO:-0500
TZNAME:EST
DTSTART:20271107T060000
END:STANDARD
END:VTIMEZONE
BEGIN:VEVENT
DTSTART;TZID=America/New_York:20260604T173000
DTEND;TZID=America/New_York:20260604T193000
DTSTAMP:20260421T092541
CREATED:20260114T192955Z
LAST-MODIFIED:20260114T192955Z
UID:5627-1780594200-1780601400@www.mlsc.org
SUMMARY:Bar Association of Baltimore City Annual Meeting
DESCRIPTION:
URL:https://www.mlsc.org/event/bar-association-of-baltimore-city-annual-meeting/
LOCATION:The Maryland Club\, 1 E. Eager St\, Baltimore\, MD\, 21202\, United States
CATEGORIES:Other
END:VEVENT
BEGIN:VEVENT
DTSTART;TZID=America/New_York:20260604T180000
DTEND;TZID=America/New_York:20260604T210000
DTSTAMP:20260421T092541
CREATED:20260409T152136Z
LAST-MODIFIED:20260409T152136Z
UID:5774-1780596000-1780606800@www.mlsc.org
SUMMARY:Hats Off to Justice
DESCRIPTION:Civil Justice is hosting our annual fundraiser\, Hats Off to Justice\, on June 4\, from 6-9pm at Collective Spaces – The Loft. \nWear your favorite hat and join us for an unforgettable evening dedicated to expanding access to justice across Maryland — where passion meets purpose\, and community fuels change.
URL:https://www.mlsc.org/event/hats-off-to-justice/
LOCATION:Collective Spaces – The Loft\, 306 W. Redwood Street\, Suite 500\, Baltimore\, MD\, 21201\, United States
CATEGORIES:Fundraiser/Recognition Event
ORGANIZER;CN="Civil Justice%2C Inc.":MAILTO:mjacobs@civiljusticeinc.org
END:VEVENT
END:VCALENDAR